Workbook

Sheet титульник
I1: УТВЕРЖДАЮ Заведующий ______________ (подпись) «30» октября 2023 г.
B16: План финансово-хозяйственной деятельности на 2023г. и плановый период 2024 и 2025 годов «30» октября 2023 г.
O23: Коды
M25: Дата
B26: Орган, осуществляющий функции и полномочия учредителя: Отдел образования администрации муниципального образования Ясненский городской округ Оренбургской области | M26: по Сводному реестру
M27: глава по БК
M28: по Сводному реестру
M29: ИНН | O29: 5618005843
M30: КПП | O30: 561801001
B31: Учреждение: Муниципальное дошкольное образовательное бюджетное учреждение Детский сад № 10 «Колосок» муниципального образования Ясненский городской округ Единица измерения: руб. | M31: по ОКЕИ | O31: 383

Sheet раздел1
A1: Раздел 1. Поступления и выплаты
A2: Наименование показателя | B2: Код строки | C2: Код по бюджетной классификации Российской Федерации | D2: Аналитический код | E2: Сумма
E3: на 2023г. текущий финансовый год | F3: на 2024г. первый год планового периода | G3: на 2025г. второй год планового периода | H3: за пределами планового периода
A4: 1 | B4: 2 | C4: 3 | D4: 4 | E4: 5 | F4: 6 | G4: 7 | H4: 8
A5: Остаток средств на начало текущего финансового года | B5: 1 | C5: x | D5: x | E5: 66480.66
A6: Остаток средств на конец текущего финансового года | B6: 2 | C6: x | D6: x | E6: =E5+E7-E31 -> 0 | F6: =F5+F7-F31 -> 0 | G6: =G5+G7-G31 -> 0
A7: Доходы, всего: | B7: 1000 | E7: =SUM(E11,E18) -> 5830102 | F7: =F11+F8+F16+F18+F23+F26 -> 4905858.3 | G7: =G11+G8+G16+G18+G23+G26 -> 4826050
A8: в том числе: | B8: 1100 | C8: 120
A9: доходы от собственности, всего
A10: в том числе: | B10: 1110
A11: доходы от оказания услуг, работ, компенсации затрат учреждений, всего | B11: 1200 | C11: 130 | E11: =E12+E14+E15 -> 5758565.7 | F11: =F12+F14+F15 -> 4899358.3 | G11: =G12+G14+G15 -> 4826050
A12: в том числе: | B12: 1210 | C12: 130 | D12: 131 | E12: =E182 -> 5540000 | F12: =F182 -> 4617184 | G12: =G182 -> 4826050
A13: субсидии на финансовое обеспечение выполнения государственного (муниципального) задания за счет средств бюджета публично-правового образования, создавшего учреждение
A14: субсидии на финансовое обеспечение выполнения государственного задания за счет средств бюджета Федерального фонда обязательного медицинского страхования | B14: 1220 | C14: 130
A15: родительская плата | B15: 1230 | C15: 130 | D15: 131 | E15: =E108-E5 -> 218565.67 | F15: =F108 -> 282174.32 | G15: =G108 -> 0
A16: доходы от штрафов, пеней, иных сумм принудительного изъятия, всего | B16: 1300 | C16: 140
A17: в том числе: | B17: 1310 | C17: 140
A18: безвозмездные денежные поступления, всего | B18: 1400 | C18: 150 | E18: =E19+E21 -> 71536.36 | F18: =F19+F21 -> 6500 | G18: =G19+G21 -> 0
A19: в том числе: | B19: 1410 | C19: 150 | D19: 152 | E19: =E259 -> 71536.36 | F19: =F259 -> 6500 | G19: =G259 -> 0
A20: целевые субсидии
A21: субсидии на осуществление капитальных вложений | B21: 1420 | C21: 150
A23: прочие доходы, всего | B23: 1500 | C23: 180
A24: в том числе:
A26: доходы от операций с активами, всего | B26: 1900
A27: в том числе:
A28: прочие поступления, всего | B28: 1980 | C28: x
A29: из них: | B29: 1981 | C29: 510 | H29: x
A30: увеличение остатков денежных средств за счет возврата дебиторской задолженности прошлых лет
A31: Расходы, всего | B31: 2000 | C31: x | E31: =SUM(E32,E60,E76) -> 5896582.7 | F31: =F32+F60+F76 -> 4905858.3 | G31: =G32+G60+G76 -> 4826050
A32: в том числе: | B32: 2100 | C32: x | E32: =SUM(E34:E50) -> 4814200 | F32: =SUM(F34:F40) -> 3859384 | G32: =SUM(G34:G40) -> 4068250 | H32: x
A33: на выплаты персоналу, всего
A34: в том числе: | B34: 2110 | C34: 111 | D34: 211 | E34: =E185 -> 3676000 | F34: =F185 -> 2952656 | G34: =G185 -> 3113075 | H34: x
A35: оплата труда | D35: 266 | E35: =E186 -> 25000 | F35: =F186 -> 15000 | G35: =G186 -> 15000
A36: прочие выплаты персоналу, в том числе компенсационного характера | B36: 2120 | C36: 112 | D36: 212 | E36: =E187 -> 0 | F36: =F187 -> 0 | G36: =G187 -> 0
D37: 226 | E37: =E188 -> 0 | F37: =F188 -> 0 | G37: =G188 -> 0
D38: 266 | E38: =E189 -> 0 | F38: =F189 -> 0 | G38: =G189 -> 0 | H38: x
A39: иные выплаты, за исключением фонда оплаты труда учреждения, для выполнения отдельных полномочий | B39: 2130 | C39: 113 | D39: 226 | E39: =E190 -> 0 | F39: =F190 -> 0 | G39: =G190 -> 0
A40: взносы по обязательному социальному страхованию на выплаты по оплате труда работников и иные выплаты работникам учреждений, всего | B40: 2140 | C40: 119 | D40: 213 | E40: =E191 -> 1113200 | F40: =F191 -> 891728 | G40: =G191 -> 940175 | H40: x
D41: 265 | E41: =E192 -> 0 | F41: 0 | G41: 0
A42: в том числе: | B42: 2141 | C42: 119 | H42: x
...

Sheet раздел2
A1: Раздел 2. Сведения по выплатам на закупки товаров, работ, услуг
A2: N п/п | B2: Наименование показателя | C2: Коды строк | D2: Год начала закупки | E2: Код по бюджетной класификации Российской Федерации | F2: Сумма
F3: на 2023 г. (текущий финансовый год) | G3: на 2024 г. (первый год планового периода) | H3: на 2025 г. (второй год планового периода) | I3: за пределами планового периода
A4: 1 | B4: 2 | C4: 3 | D4: 4 | E4: 4.1. | F4: 5 | G4: 6 | H4: 7 | I4: 8
A5: 1 | B5: Выплаты на закупку товаров, работ, услуг, всего | C5: 26000 | D5: x | F5: =раздел1!E76 -> 994278.69 | G5: =раздел1!F76 -> 975774.32 | H5: =раздел1!G76 -> 687100
A6: 1.1. | B6: в том числе: | C6: 26100 | D6: x
B7: по контрактам (договорам), заключенным до начала текущего финансового года без применения норм Федерального закона от 5 апреля 2013 г. N 44-ФЗ "О контрактной системе в сфере закупок товаров, работ, услуг для обеспечения государственных и муниципальных нужд" (Собрание законодательства Российской Федерации, 2013, N 14, ст. 1652; 2018, N 32, ст. 5104) (далее - Федеральный закон N 44-ФЗ) и Федерального закона от 18 июля 2011 г. N 223-ФЗ "О закупках товаров, работ, услуг отдельными видами юридических лиц" (Собрание законодательства Российской Федерации, 2011, N 30, ст. 4571; 2018, N 32, ст. 5135) (далее - Федеральный закон N 223-ФЗ)
A8: 1.2. | B8: по контрактам (договорам), планируемым к заключению в соответствующем финансовом году без применения норм Федерального закона N 44-ФЗ и Федерального закона N 223-ФЗ | C8: 26200 | D8: x
A9: 1.3. | B9: по контрактам (договорам), заключенным до начала текущего финансового года с учетом требований Федерального закона N 44-ФЗ и Федерального закона N 223-ФЗ | C9: 26300 | D9: x | F9: 4132.36
A10: 1.3.1 | B10: в том числе: | C10: 26310 | D10: x | E10: x | F10: =SUM(F9) -> 4132.36
B11: в соответствии с Федеральным законом N 44-ФЗ
B12: из них: | C12: 26310.1
A13: 1.3.2. | B13: в соответствии с Федеральным законом N 223-ФЗ | C13: 26320 | D13: x | E13: x
A14: 1.4. | B14: по контрактам (договорам), планируемым к заключению в соответствующем финансовом году с учетом требований Федерального закона N 44-ФЗ и Федерального закона N 223-ФЗ | C14: 26400 | D14: x | F14: =SUM(F15,F20,F31) -> 990146.33 | G14: =G5 -> 975774.32 | H14: =H5 -> 687100
A15: 1.4.1. | B15: в том числе: | C15: 26410 | D15: x | F15: =раздел1!E227 -> 655100 | G15: =раздел1!F227 -> 687100 | H15: =раздел1!G227 -> 687100
B16: за счет субсидий, предоставляемых на финансовое обеспечение выполнения государственного (муниципального) задания
A17: 1.4.1.1. | B17: в том числе: | C17: 26411 | D17: x
B18: в соответствии с Федеральным законом N 44-ФЗ
A19: 1.4.1.2. | B19: в соответствии с Федеральным законом N 223-ФЗ | C19: 26412 | D19: x
A20: 1.4.2. | B20: за счет субсидий, предоставляемых в соответствии с абзацем вторым пункта 1 статьи 78.1 Бюджетного кодекса Российской Федерации | C20: 26420 | D20: x | F20: =раздел1!E301-4132.36 -> 50000 | G20: =раздел1!F301 -> 6500 | H20: =раздел1!G301 -> 0
A21: 1.4.2.1 | B21: в том числе: | C21: 26421 | D21: x | F21: =F20 -> 50000 | G21: =G20 -> 6500 | H21: =H20 -> 0
B22: в соответствии с Федеральным законом N 44-ФЗ
B23: из них: | C23: 26421.1 | D23: x
A24: 1.4.2.2. | B24: в соответствии с Федеральным законом N 223-ФЗ | C24: 26422 | D24: x
A25: 1.4.3. | B25: за счет субсидий, предоставляемых на осуществление капитальных вложений | C25: 26430 | D25: x
B26: из них : | C26: 26430.1 | D26: x
A27: 1.4.4. | B27: за счет средств обязательного медицинского страхования | C27: 26440 | D27: x
A28: 1.4.4.1. | B28: в том числе: | C28: 26441 | D28: x
B29: в соответствии с Федеральным законом N 44-ФЗ
A30: 1.4.4.2. | B30: в соответствии с Федеральным законом N 223-ФЗ | C30: 26442 | D30: x
A31: 1.4.5. | B31: за счет прочих источников финансового обеспечения | C31: 26450 | D31: x | F31: =раздел1!E150 -> 285046.33 | G31: =раздел1!F150 -> 282174.32 | H31: =раздел1!G150 -> 0
A32: 1.4.5.1. | B32: в том числе: | C32: 26451 | D32: x | F32: =F31 -> 285046.33 | G32: =G31 -> 282174.32 | H32: =H31 -> 0
B33: в соответствии с Федеральным законом N 44-ФЗ
B34: из них: | C34: 26451.1 | D34: x
A35: 1.4.5.2. | B35: в соответствии с Федеральным законом N 223-ФЗ | C35: 26452 | D35: x
A36: 2. | B36: Итого по контрактам, планируемым к заключению в соответствующем финансовом году в соответствии с Федеральным законом N 44-ФЗ, по соответствующему году закупки | C36: 26500 | D36: x | F36: =SUM(F5) -> 994278.69 | G36: =G31+G20+G15 -> 975774.32 | H36: =H31+H20+H15 -> 687100
B37: в том числе по году начала закупки:
C38: 26510 | D38: 2023 | F38: =F36 -> 994278.69
C39: 26520 | D39: 2024 | G39: =G36 -> 975774.32
C40: 26530 | D40: 2025 | H40: =H36 -> 687100
...

Sheet обоснование
B3: Обоснование (расчет) плановых поступлений
B5: Учреждение: Муниципальное дошкольное образовательное бюджетное учреждение Детский сад № 10 «Колосок» муниципального образования Ясненский городской округ
C9: Общая сумма | E9: =SUM(E13:J15) -> 15628491 | G9: руб.
B11: № п/п | C11: Наименование доходов | E11: Сумма на 2023год (на текущий финансовый год) (руб.) | G11: Сумма на 2024 год (на первый год планового периода) (руб.) | I11: Сумма на 2025 год (на второй год планового периода) (руб.)
B12: 1 | C12: 2 | E12: 3 | G12: 4 | I12: 5
B13: 2 | C13: Субсидии на финансовое обеспечение выполнения муниципального задания на оказание муниципальных услуг (выполнение работ) | E13: =раздел1!E182 -> 5540000 | G13: =раздел1!F182 -> 4617184 | I13: =раздел1!G182 -> 4826050
B14: 3 | C14: Субсидии на иные цели | E14: =раздел1!E259 -> 71536.36 | G14: =раздел1!F259 -> 6500 | I14: =раздел1!G259 -> 0
B15: 4 | C15: Родительская плата | E15: =раздел1!E108 -> 285046.33 | G15: =раздел1!F108 -> 282174.32 | I15: =раздел1!G108 -> 0
C23: Руководитель | E23: _______________ | G23: ________________ | I23: __________________________
E24: должность | G24: подпись | I24: расшифровка
D38: Обоснование (расчет) плановых выплат
A40: Учреждение: Муниципальное дошкольное образовательное бюджетное учреждение Детский сад № 10 «Колосок» муниципального образования Ясненский городской округ
D44: Общая сумма | E44: =E9 -> 15628491 | H44: руб.
C47: Код классификации расходов бюджета 902 07010540114480111
C49: № п/п | D49: Наименование расходов | E49: Количество | F49: Цена (норматив) | G49: Сумма на 2023год (на текущий финансовый год) (руб.) | H49: Сумма на 2024 год (на первый год планового периода) (руб.) | I49: Сумма на 2025 год (на второй год планового периода) (руб.)
C50: 1 | D50: 2 | E50: 3 | F50: 4 | G50: 5 | H50: 6 | I50: 7
C51: 1 | D51: Заработная плата | G51: 2291700 | H51: 1558356 | I51: 1718775
C52: 2 | D52: Социальные пособия и компенсации персоналу в денежной форме | G52: 15000 | H52: 15000 | I52: 15000
C53: Итого: | G53: =SUM(G51:G52) -> 2306700 | H53: =SUM(H51:H52) -> 1573356 | I53: =SUM(I51:I52) -> 1733775
C56: Код классификации расходов бюджета 902 07010540180981111
C58: № п/п | D58: Наименование расходов | E58: Количество | F58: Цена (норматив) | G58: Сумма на 2023год (на текущий финансовый год) (руб.) | H58: Сумма на 2024 год (на первый год планового периода) (руб.) | I58: Сумма на 2025 год (на второй год планового периода) (руб.)
C59: 1 | D59: 2 | E59: 3 | F59: 4 | G59: 5 | H59: 6 | I59: 7
C60: 1 | D60: Заработная плата | G60: 1384300 | H60: 1394300 | I60: 1394300
C61: 2 | D61: Социальные пособия и компенсации персоналу в денежной форме | G61: 10000 | H61: 0 | I61: 0
C62: Итого: | G62: =SUM(G60:G61) -> 1394300 | H62: =SUM(H60:H61) -> 1394300 | I62: =SUM(I60:I61) -> 1394300
C65: Код классификации расходов бюджета 902 07010540114480119
C67: № п/п | D67: Наименование расходов | E67: Количество | F67: Цена (норматив) | G67: Сумма на 2023год (на текущий финансовый год) (руб.) | H67: Сумма на 2024 год (на первый год планового периода) (руб.) | I67: Сумма на 2025 год (на второй год планового периода) (руб.)
C68: 1 | D68: 2 | E68: 3 | F68: 4 | G68: 5 | H68: 6 | I68: 7
C69: 1 | D69: Начисления на выплаты по оплате труда | G69: 692100 | H69: 470628 | I69: 519075
C70: Итого: | G70: =SUM(G69) -> 692100 | H70: =SUM(H69:H69) -> 470628 | I70: =SUM(I69:I69) -> 519075
C73: Код классификации расходов бюджета 902 07010540180981119
C75: № п/п | D75: Наименование расходов | E75: Количество | F75: Цена (норматив) | G75: Сумма на 2023год (на текущий финансовый год) (руб.) | H75: Сумма на 2024 год (на первый год планового периода) (руб.) | I75: Сумма на 2025 год (на второй год планового периода) (руб.)
C76: 1 | D76: 2 | E76: 3 | F76: 4 | G76: 5 | H76: 6 | I76: 7
C77: 1 | D77: Начисления на выплаты по оплате труда | G77: 421100 | H77: 421100 | I77: 421100
C78: Итого: | G78: =SUM(G77) -> 421100 | H78: =SUM(H77:H77) -> 421100 | I78: =SUM(I77:I77) -> 421100
C81: Код классификации расходов бюджета 902 07010540114480244
C83: № п/п | D83: Наименование расходов | E83: Количество | F83: Цена (норматив) | G83: Сумма на 2023год (на текущий финансовый год) (руб.) | H83: Сумма на 2024 год (на первый год планового периода) (руб.) | I83: Сумма на 2025 год (на второй год планового периода) (руб.)
C84: 1 | D84: 2 | E84: 3 | F84: 4 | G84: 5 | H84: 6 | I84: 7
C85: 1 | D85: Услуги связи | G85: 30400 | H85: 30400 | I85: 30400
C86: 2 | D86: Коммунальные услуги | G86: =SUM(G87:G88) -> 54300 | H86: 54300 | I86: 54300
...
